BEGIN:VCALENDAR
VERSION:2.0
PRODID:-//Elba Public School - ECPv6.15.20//NONSGML v1.0//EN
CALSCALE:GREGORIAN
METHOD:PUBLISH
X-WR-CALNAME:Elba Public School
X-ORIGINAL-URL:https://elbaps.org
X-WR-CALDESC:Events for Elba Public School
REFRESH-INTERVAL;VALUE=DURATION:PT1H
X-Robots-Tag:noindex
X-PUBLISHED-TTL:PT1H
BEGIN:VTIMEZONE
TZID:America/Chicago
BEGIN:DAYLIGHT
TZOFFSETFROM:-0600
TZOFFSETTO:-0500
TZNAME:CDT
DTSTART:20240310T080000
END:DAYLIGHT
BEGIN:STANDARD
TZOFFSETFROM:-0500
TZOFFSETTO:-0600
TZNAME:CST
DTSTART:20241103T070000
END:STANDARD
BEGIN:DAYLIGHT
TZOFFSETFROM:-0600
TZOFFSETTO:-0500
TZNAME:CDT
DTSTART:20250309T080000
END:DAYLIGHT
BEGIN:STANDARD
TZOFFSETFROM:-0500
TZOFFSETTO:-0600
TZNAME:CST
DTSTART:20251102T070000
END:STANDARD
BEGIN:DAYLIGHT
TZOFFSETFROM:-0600
TZOFFSETTO:-0500
TZNAME:CDT
DTSTART:20260308T080000
END:DAYLIGHT
BEGIN:STANDARD
TZOFFSETFROM:-0500
TZOFFSETTO:-0600
TZNAME:CST
DTSTART:20261101T070000
END:STANDARD
END:VTIMEZONE
BEGIN:VEVENT
DTSTART;TZID=America/Chicago:20251002T153000
DTEND;TZID=America/Chicago:20251002T170000
DTSTAMP:20260422T174659
CREATED:20250730T185625Z
LAST-MODIFIED:20250730T185625Z
UID:9387-1759419000-1759424400@elbaps.org
SUMMARY:Junior High Volleyball @ Fullerton
DESCRIPTION:
URL:https://elbaps.org/event/junior-high-volleyball-fullerton/
CATEGORIES:Junior High Volleyball
END:VEVENT
BEGIN:VEVENT
DTSTART;TZID=America/Chicago:20251002T173000
DTEND;TZID=America/Chicago:20251002T200000
DTSTAMP:20260422T174659
CREATED:20250730T183733Z
LAST-MODIFIED:20250730T183733Z
UID:9354-1759426200-1759435200@elbaps.org
SUMMARY:Volleyball Triangular @ Fullerton
DESCRIPTION:Fullerton 5:30pm \nPalmer 6:30pm
URL:https://elbaps.org/event/volleyball-triangular-fullerton/
CATEGORIES:Varsity Volleyball
END:VEVENT
END:VCALENDAR