BEGIN:VCALENDAR
VERSION:2.0
PRODID:-//Elba Public School - ECPv6.15.20//NONSGML v1.0//EN
CALSCALE:GREGORIAN
METHOD:PUBLISH
X-WR-CALNAME:Elba Public School
X-ORIGINAL-URL:https://elbaps.org
X-WR-CALDESC:Events for Elba Public School
REFRESH-INTERVAL;VALUE=DURATION:PT1H
X-Robots-Tag:noindex
X-PUBLISHED-TTL:PT1H
BEGIN:VTIMEZONE
TZID:America/Chicago
BEGIN:DAYLIGHT
TZOFFSETFROM:-0600
TZOFFSETTO:-0500
TZNAME:CDT
DTSTART:20240310T080000
END:DAYLIGHT
BEGIN:STANDARD
TZOFFSETFROM:-0500
TZOFFSETTO:-0600
TZNAME:CST
DTSTART:20241103T070000
END:STANDARD
BEGIN:DAYLIGHT
TZOFFSETFROM:-0600
TZOFFSETTO:-0500
TZNAME:CDT
DTSTART:20250309T080000
END:DAYLIGHT
BEGIN:STANDARD
TZOFFSETFROM:-0500
TZOFFSETTO:-0600
TZNAME:CST
DTSTART:20251102T070000
END:STANDARD
BEGIN:DAYLIGHT
TZOFFSETFROM:-0600
TZOFFSETTO:-0500
TZNAME:CDT
DTSTART:20260308T080000
END:DAYLIGHT
BEGIN:STANDARD
TZOFFSETFROM:-0500
TZOFFSETTO:-0600
TZNAME:CST
DTSTART:20261101T070000
END:STANDARD
END:VTIMEZONE
BEGIN:VEVENT
DTSTART;TZID=America/Chicago:20251212T163000
DTEND;TZID=America/Chicago:20251212T180000
DTSTAMP:20260422T150356
CREATED:20251211T150442Z
LAST-MODIFIED:20251211T150442Z
UID:10104-1765557000-1765562400@elbaps.org
SUMMARY:JV G/B Basketball @ Silver Lake 4:30pm/5:15pm
DESCRIPTION:
URL:https://elbaps.org/event/jv-g-b-basketball-silver-lake-430pm-515pm/
END:VEVENT
BEGIN:VEVENT
DTSTART;TZID=America/Chicago:20251212T180000
DTEND;TZID=America/Chicago:20251212T210000
DTSTAMP:20260422T150356
CREATED:20250730T212656Z
LAST-MODIFIED:20250730T212735Z
UID:9415-1765562400-1765573200@elbaps.org
SUMMARY:Varsity Basketball @ Silver Lake
DESCRIPTION:Roseland\,NE
URL:https://elbaps.org/event/varsity-basketball-silver-lake/
CATEGORIES:Varsity Basketball
END:VEVENT
END:VCALENDAR