BEGIN:VCALENDAR
VERSION:2.0
PRODID:-//Elba Public School - ECPv6.15.20//NONSGML v1.0//EN
CALSCALE:GREGORIAN
METHOD:PUBLISH
X-ORIGINAL-URL:https://elbaps.org
X-WR-CALDESC:Events for Elba Public School
REFRESH-INTERVAL;VALUE=DURATION:PT1H
X-Robots-Tag:noindex
X-PUBLISHED-TTL:PT1H
BEGIN:VTIMEZONE
TZID:America/Chicago
BEGIN:DAYLIGHT
TZOFFSETFROM:-0600
TZOFFSETTO:-0500
TZNAME:CDT
DTSTART:20240310T080000
END:DAYLIGHT
BEGIN:STANDARD
TZOFFSETFROM:-0500
TZOFFSETTO:-0600
TZNAME:CST
DTSTART:20241103T070000
END:STANDARD
BEGIN:DAYLIGHT
TZOFFSETFROM:-0600
TZOFFSETTO:-0500
TZNAME:CDT
DTSTART:20250309T080000
END:DAYLIGHT
BEGIN:STANDARD
TZOFFSETFROM:-0500
TZOFFSETTO:-0600
TZNAME:CST
DTSTART:20251102T070000
END:STANDARD
BEGIN:DAYLIGHT
TZOFFSETFROM:-0600
TZOFFSETTO:-0500
TZNAME:CDT
DTSTART:20260308T080000
END:DAYLIGHT
BEGIN:STANDARD
TZOFFSETFROM:-0500
TZOFFSETTO:-0600
TZNAME:CST
DTSTART:20261101T070000
END:STANDARD
END:VTIMEZONE
BEGIN:VEVENT
DTSTART;TZID=America/Chicago:20251218T130000
DTEND;TZID=America/Chicago:20251218T153000
DTSTAMP:20260422T150623
CREATED:20250429T192538Z
LAST-MODIFIED:20251215T151935Z
UID:8175-1766062800-1766071800@elbaps.org
SUMMARY:VISION & HEARING SCREENINGS BY LIONS CLUB
DESCRIPTION:
URL:https://elbaps.org/event/vision-hearing-screenings-by-lions-club/
END:VEVENT
BEGIN:VEVENT
DTSTART;TZID=America/Chicago:20251218T140000
DTEND;TZID=America/Chicago:20251218T163000
DTSTAMP:20260422T150623
CREATED:20251217T222849Z
LAST-MODIFIED:20251217T222849Z
UID:10235-1766066400-1766075400@elbaps.org
SUMMARY:JH G/B Basketball vs Central Valley
DESCRIPTION:
URL:https://elbaps.org/event/jh-g-b-basketball-vs-central-valley/
CATEGORIES:Junior High Basketball
END:VEVENT
BEGIN:VEVENT
DTSTART;TZID=America/Chicago:20251218T163000
DTEND;TZID=America/Chicago:20251218T180000
DTSTAMP:20260422T150623
CREATED:20251211T150610Z
LAST-MODIFIED:20251211T150610Z
UID:10106-1766075400-1766080800@elbaps.org
SUMMARY:JV G/B Basketball vs Central Valley 4:30pm/5:15pm
DESCRIPTION:
URL:https://elbaps.org/event/jv-g-b-basketball-vs-central-valley-430pm-515pm/
END:VEVENT
BEGIN:VEVENT
DTSTART;TZID=America/Chicago:20251218T180000
DTEND;TZID=America/Chicago:20251218T210000
DTSTAMP:20260422T150623
CREATED:20250730T212837Z
LAST-MODIFIED:20250730T212837Z
UID:9417-1766080800-1766091600@elbaps.org
SUMMARY:Varsity Basketball vs Central Valley
DESCRIPTION:
URL:https://elbaps.org/event/varsity-basketball-vs-central-valley/
CATEGORIES:Varsity Basketball
END:VEVENT
END:VCALENDAR