BEGIN:VCALENDAR
VERSION:2.0
PRODID:-//Elba Public School - ECPv6.15.20//NONSGML v1.0//EN
CALSCALE:GREGORIAN
METHOD:PUBLISH
X-ORIGINAL-URL:https://elbaps.org
X-WR-CALDESC:Events for Elba Public School
REFRESH-INTERVAL;VALUE=DURATION:PT1H
X-Robots-Tag:noindex
X-PUBLISHED-TTL:PT1H
BEGIN:VTIMEZONE
TZID:America/Chicago
BEGIN:DAYLIGHT
TZOFFSETFROM:-0600
TZOFFSETTO:-0500
TZNAME:CDT
DTSTART:20250309T080000
END:DAYLIGHT
BEGIN:STANDARD
TZOFFSETFROM:-0500
TZOFFSETTO:-0600
TZNAME:CST
DTSTART:20251102T070000
END:STANDARD
BEGIN:DAYLIGHT
TZOFFSETFROM:-0600
TZOFFSETTO:-0500
TZNAME:CDT
DTSTART:20260308T080000
END:DAYLIGHT
BEGIN:STANDARD
TZOFFSETFROM:-0500
TZOFFSETTO:-0600
TZNAME:CST
DTSTART:20261101T070000
END:STANDARD
BEGIN:DAYLIGHT
TZOFFSETFROM:-0600
TZOFFSETTO:-0500
TZNAME:CDT
DTSTART:20270314T080000
END:DAYLIGHT
BEGIN:STANDARD
TZOFFSETFROM:-0500
TZOFFSETTO:-0600
TZNAME:CST
DTSTART:20271107T070000
END:STANDARD
END:VTIMEZONE
BEGIN:VEVENT
DTSTART;TZID=America/Chicago:20260110T130000
DTEND;TZID=America/Chicago:20260110T140000
DTSTAMP:20260422T133947
CREATED:20260105T235554Z
LAST-MODIFIED:20260105T235554Z
UID:10261-1768050000-1768053600@elbaps.org
SUMMARY:JV Girls Basketball vs Red Cloud
DESCRIPTION:
URL:https://elbaps.org/event/jv-girls-basketball-vs-red-cloud/
CATEGORIES:Varsity Basketball
END:VEVENT
BEGIN:VEVENT
DTSTART;TZID=America/Chicago:20260110T140000
DTEND;TZID=America/Chicago:20260110T173000
DTSTAMP:20260422T133947
CREATED:20250730T213606Z
LAST-MODIFIED:20250730T213712Z
UID:9429-1768053600-1768066200@elbaps.org
SUMMARY:Varsity Basketball vs Red Cloud
DESCRIPTION:
URL:https://elbaps.org/event/varsity-basketball-palmer/
CATEGORIES:Varsity Basketball
END:VEVENT
END:VCALENDAR