BEGIN:VCALENDAR
VERSION:2.0
PRODID:-//Elba Public School - ECPv6.15.20//NONSGML v1.0//EN
CALSCALE:GREGORIAN
METHOD:PUBLISH
X-ORIGINAL-URL:https://elbaps.org
X-WR-CALDESC:Events for Elba Public School
REFRESH-INTERVAL;VALUE=DURATION:PT1H
X-Robots-Tag:noindex
X-PUBLISHED-TTL:PT1H
BEGIN:VTIMEZONE
TZID:America/Chicago
BEGIN:DAYLIGHT
TZOFFSETFROM:-0600
TZOFFSETTO:-0500
TZNAME:CDT
DTSTART:20250309T080000
END:DAYLIGHT
BEGIN:STANDARD
TZOFFSETFROM:-0500
TZOFFSETTO:-0600
TZNAME:CST
DTSTART:20251102T070000
END:STANDARD
BEGIN:DAYLIGHT
TZOFFSETFROM:-0600
TZOFFSETTO:-0500
TZNAME:CDT
DTSTART:20260308T080000
END:DAYLIGHT
BEGIN:STANDARD
TZOFFSETFROM:-0500
TZOFFSETTO:-0600
TZNAME:CST
DTSTART:20261101T070000
END:STANDARD
BEGIN:DAYLIGHT
TZOFFSETFROM:-0600
TZOFFSETTO:-0500
TZNAME:CDT
DTSTART:20270314T080000
END:DAYLIGHT
BEGIN:STANDARD
TZOFFSETFROM:-0500
TZOFFSETTO:-0600
TZNAME:CST
DTSTART:20271107T070000
END:STANDARD
END:VTIMEZONE
BEGIN:VEVENT
DTSTART;TZID=America/Chicago:20260116T171500
DTEND;TZID=America/Chicago:20260116T180000
DTSTAMP:20260422T150610
CREATED:20260107T161700Z
LAST-MODIFIED:20260107T161700Z
UID:10265-1768583700-1768586400@elbaps.org
SUMMARY:JV Boys Basketball vs Cedar Bluffs
DESCRIPTION:
URL:https://elbaps.org/event/jv-boys-basketball-vs-cedar-bluffs/
END:VEVENT
BEGIN:VEVENT
DTSTART;TZID=America/Chicago:20260116T180000
DTEND;TZID=America/Chicago:20260116T210000
DTSTAMP:20260422T150610
CREATED:20250730T214620Z
LAST-MODIFIED:20260107T162255Z
UID:9437-1768586400-1768597200@elbaps.org
SUMMARY:Varsity G/B Basketball vs Cedar Bluffs
DESCRIPTION:
URL:https://elbaps.org/event/varsity-basketball-vs-cedar-bluffs/
CATEGORIES:Varsity Basketball
END:VEVENT
END:VCALENDAR