BEGIN:VCALENDAR
VERSION:2.0
PRODID:-//Elba Public School - ECPv6.15.20//NONSGML v1.0//EN
CALSCALE:GREGORIAN
METHOD:PUBLISH
X-WR-CALNAME:Elba Public School
X-ORIGINAL-URL:https://elbaps.org
X-WR-CALDESC:Events for Elba Public School
REFRESH-INTERVAL;VALUE=DURATION:PT1H
X-Robots-Tag:noindex
X-PUBLISHED-TTL:PT1H
BEGIN:VTIMEZONE
TZID:America/Chicago
BEGIN:DAYLIGHT
TZOFFSETFROM:-0600
TZOFFSETTO:-0500
TZNAME:CDT
DTSTART:20250309T080000
END:DAYLIGHT
BEGIN:STANDARD
TZOFFSETFROM:-0500
TZOFFSETTO:-0600
TZNAME:CST
DTSTART:20251102T070000
END:STANDARD
BEGIN:DAYLIGHT
TZOFFSETFROM:-0600
TZOFFSETTO:-0500
TZNAME:CDT
DTSTART:20260308T080000
END:DAYLIGHT
BEGIN:STANDARD
TZOFFSETFROM:-0500
TZOFFSETTO:-0600
TZNAME:CST
DTSTART:20261101T070000
END:STANDARD
BEGIN:DAYLIGHT
TZOFFSETFROM:-0600
TZOFFSETTO:-0500
TZNAME:CDT
DTSTART:20270314T080000
END:DAYLIGHT
BEGIN:STANDARD
TZOFFSETFROM:-0500
TZOFFSETTO:-0600
TZNAME:CST
DTSTART:20271107T070000
END:STANDARD
END:VTIMEZONE
BEGIN:VEVENT
DTSTART;TZID=America/Chicago:20260212T160000
DTEND;TZID=America/Chicago:20260212T170000
DTSTAMP:20260422T120439
CREATED:20251113T221202Z
LAST-MODIFIED:20251113T221202Z
UID:9989-1770912000-1770915600@elbaps.org
SUMMARY:JH BBB vs Burwell
DESCRIPTION:
URL:https://elbaps.org/event/jh-bbb-vs-burwell/
CATEGORIES:Junior High Basketball
END:VEVENT
BEGIN:VEVENT
DTSTART;TZID=America/Chicago:20260212T170000
DTEND;TZID=America/Chicago:20260212T180000
DTSTAMP:20260422T120439
CREATED:20251211T151941Z
LAST-MODIFIED:20260129T153336Z
UID:10124-1770915600-1770919200@elbaps.org
SUMMARY:JV GBB@ Franklin 5:00pm
DESCRIPTION:
URL:https://elbaps.org/event/jv-g-b-basketball-franklin-400pm-500pm/
END:VEVENT
BEGIN:VEVENT
DTSTART;TZID=America/Chicago:20260212T180000
DTEND;TZID=America/Chicago:20260212T210000
DTSTAMP:20260422T120439
CREATED:20251217T162857Z
LAST-MODIFIED:20251217T162857Z
UID:10229-1770919200-1770930000@elbaps.org
SUMMARY:Varsity G/B Basketball @ Franklin
DESCRIPTION:
URL:https://elbaps.org/event/varsity-g-b-basketball-franklin/
CATEGORIES:Varsity Basketball
END:VEVENT
END:VCALENDAR