BEGIN:VCALENDAR
VERSION:2.0
PRODID:-//Elba Public School - ECPv6.15.20//NONSGML v1.0//EN
CALSCALE:GREGORIAN
METHOD:PUBLISH
X-ORIGINAL-URL:https://elbaps.org
X-WR-CALDESC:Events for Elba Public School
REFRESH-INTERVAL;VALUE=DURATION:PT1H
X-Robots-Tag:noindex
X-PUBLISHED-TTL:PT1H
BEGIN:VTIMEZONE
TZID:America/Chicago
BEGIN:DAYLIGHT
TZOFFSETFROM:-0600
TZOFFSETTO:-0500
TZNAME:CDT
DTSTART:20250309T080000
END:DAYLIGHT
BEGIN:STANDARD
TZOFFSETFROM:-0500
TZOFFSETTO:-0600
TZNAME:CST
DTSTART:20251102T070000
END:STANDARD
BEGIN:DAYLIGHT
TZOFFSETFROM:-0600
TZOFFSETTO:-0500
TZNAME:CDT
DTSTART:20260308T080000
END:DAYLIGHT
BEGIN:STANDARD
TZOFFSETFROM:-0500
TZOFFSETTO:-0600
TZNAME:CST
DTSTART:20261101T070000
END:STANDARD
BEGIN:DAYLIGHT
TZOFFSETFROM:-0600
TZOFFSETTO:-0500
TZNAME:CDT
DTSTART:20270314T080000
END:DAYLIGHT
BEGIN:STANDARD
TZOFFSETFROM:-0500
TZOFFSETTO:-0600
TZNAME:CST
DTSTART:20271107T070000
END:STANDARD
END:VTIMEZONE
BEGIN:VEVENT
DTSTART;TZID=America/Chicago:20260422T100000
DTEND;TZID=America/Chicago:20260422T163000
DTSTAMP:20260421T204502
CREATED:20250819T010026Z
LAST-MODIFIED:20250819T010026Z
UID:9517-1776852000-1776875400@elbaps.org
SUMMARY:JH Fullerton Invitational
DESCRIPTION:
URL:https://elbaps.org/event/jh-fullerton-invitational/
CATEGORIES:Junior High Track
END:VEVENT
BEGIN:VEVENT
DTSTART;TZID=America/Chicago:20260428T090000
DTEND;TZID=America/Chicago:20260428T163000
DTSTAMP:20260421T204502
CREATED:20250819T010111Z
LAST-MODIFIED:20250819T010111Z
UID:9519-1777366800-1777393800@elbaps.org
SUMMARY:JH Twin River Invitational
DESCRIPTION:
URL:https://elbaps.org/event/jh-twin-river-invitational-2/
CATEGORIES:Junior High Track
END:VEVENT
BEGIN:VEVENT
DTSTART;TZID=America/Chicago:20260504T100000
DTEND;TZID=America/Chicago:20260504T163000
DTSTAMP:20260421T204502
CREATED:20250819T010333Z
LAST-MODIFIED:20260122T175429Z
UID:9521-1777888800-1777912200@elbaps.org
SUMMARY:JH Goldenrod Conference Meet @ Humphrey
DESCRIPTION:
URL:https://elbaps.org/event/jh-goldenrod-conference-meet-fullerton/
CATEGORIES:Junior High Track
END:VEVENT
BEGIN:VEVENT
DTSTART;TZID=America/Chicago:20260512T090000
DTEND;TZID=America/Chicago:20260512T170000
DTSTAMP:20260421T204502
CREATED:20250819T010611Z
LAST-MODIFIED:20250819T010620Z
UID:9525-1778576400-1778605200@elbaps.org
SUMMARY:JH Red Cloud Invite
DESCRIPTION:
URL:https://elbaps.org/event/jh-red-cloud-event/
CATEGORIES:Junior High Track
END:VEVENT
BEGIN:VEVENT
DTSTART;TZID=America/Chicago:20260516T080000
DTEND;TZID=America/Chicago:20260516T170000
DTSTAMP:20260421T204502
CREATED:20250819T010659Z
LAST-MODIFIED:20250819T010659Z
UID:9528-1778918400-1778950800@elbaps.org
SUMMARY:JH State Track @ Gothenburg
DESCRIPTION:
URL:https://elbaps.org/event/jh-state-track-gothenburg/
CATEGORIES:Junior High Track
END:VEVENT
END:VCALENDAR