BEGIN:VCALENDAR
VERSION:2.0
PRODID:-//Elba Public School - ECPv6.15.20//NONSGML v1.0//EN
CALSCALE:GREGORIAN
METHOD:PUBLISH
X-WR-CALNAME:Elba Public School
X-ORIGINAL-URL:https://elbaps.org
X-WR-CALDESC:Events for Elba Public School
REFRESH-INTERVAL;VALUE=DURATION:PT1H
X-Robots-Tag:noindex
X-PUBLISHED-TTL:PT1H
BEGIN:VTIMEZONE
TZID:America/Chicago
BEGIN:DAYLIGHT
TZOFFSETFROM:-0600
TZOFFSETTO:-0500
TZNAME:CDT
DTSTART:20240310T080000
END:DAYLIGHT
BEGIN:STANDARD
TZOFFSETFROM:-0500
TZOFFSETTO:-0600
TZNAME:CST
DTSTART:20241103T070000
END:STANDARD
BEGIN:DAYLIGHT
TZOFFSETFROM:-0600
TZOFFSETTO:-0500
TZNAME:CDT
DTSTART:20250309T080000
END:DAYLIGHT
BEGIN:STANDARD
TZOFFSETFROM:-0500
TZOFFSETTO:-0600
TZNAME:CST
DTSTART:20251102T070000
END:STANDARD
BEGIN:DAYLIGHT
TZOFFSETFROM:-0600
TZOFFSETTO:-0500
TZNAME:CDT
DTSTART:20260308T080000
END:DAYLIGHT
BEGIN:STANDARD
TZOFFSETFROM:-0500
TZOFFSETTO:-0600
TZNAME:CST
DTSTART:20261101T070000
END:STANDARD
END:VTIMEZONE
BEGIN:VEVENT
DTSTART;TZID=America/Chicago:20250909T173000
DTEND;TZID=America/Chicago:20250909T210000
DTSTAMP:20260424T065208
CREATED:20250730T181830Z
LAST-MODIFIED:20250730T181830Z
UID:9339-1757439000-1757451600@elbaps.org
SUMMARY:Volleyball Triangular @ Elba
DESCRIPTION:Riverside 5:30pm \nGrand Island Lutheran 7:30pm
URL:https://elbaps.org/event/volleyball-triangular-elba/
CATEGORIES:Varsity Volleyball
END:VEVENT
BEGIN:VEVENT
DTSTART;TZID=America/Chicago:20250913T090000
DTEND;TZID=America/Chicago:20250913T170000
DTSTAMP:20260424T065208
CREATED:20250730T181915Z
LAST-MODIFIED:20250730T181915Z
UID:9341-1757754000-1757782800@elbaps.org
SUMMARY:Elba Volleyball Tournament
DESCRIPTION:
URL:https://elbaps.org/event/elba-volleyball-tournament/
CATEGORIES:Varsity Volleyball
END:VEVENT
BEGIN:VEVENT
DTSTART;TZID=America/Chicago:20250916T170000
DTEND;TZID=America/Chicago:20250916T203000
DTSTAMP:20260424T065208
CREATED:20250730T182226Z
LAST-MODIFIED:20250730T182226Z
UID:9343-1758042000-1758054600@elbaps.org
SUMMARY:Volleyball Triangular @ Elba
DESCRIPTION:NG/SE 5:00pm \nGiltner 7:00pm \n 
URL:https://elbaps.org/event/volleyball-triangular-elba-2/
CATEGORIES:Varsity Volleyball
END:VEVENT
BEGIN:VEVENT
DTSTART;TZID=America/Chicago:20250919T170000
DTEND;TZID=America/Chicago:20250919T170000
DTSTAMP:20260424T065208
CREATED:20250730T182602Z
LAST-MODIFIED:20250730T182602Z
UID:9345-1758301200-1758301200@elbaps.org
SUMMARY:Volleyball Dual @ Wallace
DESCRIPTION:
URL:https://elbaps.org/event/volleyball-dual-wallace/
CATEGORIES:Varsity Volleyball
END:VEVENT
BEGIN:VEVENT
DTSTART;TZID=America/Chicago:20250923T170000
DTEND;TZID=America/Chicago:20250923T203000
DTSTAMP:20260424T065208
CREATED:20250730T182917Z
LAST-MODIFIED:20250730T182917Z
UID:9347-1758646800-1758659400@elbaps.org
SUMMARY:Volleyball Triangular @ Polk
DESCRIPTION:NG/SE 5:00pm \nHigh Plains 7:00pm
URL:https://elbaps.org/event/volleyball-triangular-polk/
CATEGORIES:Varsity Volleyball
END:VEVENT
BEGIN:VEVENT
DTSTART;TZID=America/Chicago:20250925T170000
DTEND;TZID=America/Chicago:20250925T193000
DTSTAMP:20260424T065208
CREATED:20250730T183111Z
LAST-MODIFIED:20250730T183145Z
UID:9349-1758819600-1758828600@elbaps.org
SUMMARY:Volleyball Triangular @ Waco
DESCRIPTION:Nebraska Lutheran 5:00pm \nOsceola 6:00pm \n 
URL:https://elbaps.org/event/volleyball-triangular-waco/
CATEGORIES:Varsity Volleyball
END:VEVENT
BEGIN:VEVENT
DTSTART;TZID=America/Chicago:20250930T170000
DTEND;TZID=America/Chicago:20250930T200000
DTSTAMP:20260424T065208
CREATED:20250730T183416Z
LAST-MODIFIED:20250730T183459Z
UID:9351-1759251600-1759262400@elbaps.org
SUMMARY:Wilcox-Hildreth Double Quad
DESCRIPTION:Harvard 5:00pm \nWilcox-Hildreth 6:30pm
URL:https://elbaps.org/event/wilcox-hildreth-double-quad/
CATEGORIES:Varsity Volleyball
END:VEVENT
END:VCALENDAR