BEGIN:VCALENDAR
VERSION:2.0
PRODID:-//Elba Public School - ECPv6.15.20//NONSGML v1.0//EN
CALSCALE:GREGORIAN
METHOD:PUBLISH
X-ORIGINAL-URL:https://elbaps.org
X-WR-CALDESC:Events for Elba Public School
REFRESH-INTERVAL;VALUE=DURATION:PT1H
X-Robots-Tag:noindex
X-PUBLISHED-TTL:PT1H
BEGIN:VTIMEZONE
TZID:America/Chicago
BEGIN:DAYLIGHT
TZOFFSETFROM:-0600
TZOFFSETTO:-0500
TZNAME:CDT
DTSTART:20240310T080000
END:DAYLIGHT
BEGIN:STANDARD
TZOFFSETFROM:-0500
TZOFFSETTO:-0600
TZNAME:CST
DTSTART:20241103T070000
END:STANDARD
BEGIN:DAYLIGHT
TZOFFSETFROM:-0600
TZOFFSETTO:-0500
TZNAME:CDT
DTSTART:20250309T080000
END:DAYLIGHT
BEGIN:STANDARD
TZOFFSETFROM:-0500
TZOFFSETTO:-0600
TZNAME:CST
DTSTART:20251102T070000
END:STANDARD
BEGIN:DAYLIGHT
TZOFFSETFROM:-0600
TZOFFSETTO:-0500
TZNAME:CDT
DTSTART:20260308T080000
END:DAYLIGHT
BEGIN:STANDARD
TZOFFSETFROM:-0500
TZOFFSETTO:-0600
TZNAME:CST
DTSTART:20261101T070000
END:STANDARD
END:VTIMEZONE
BEGIN:VEVENT
DTSTART;TZID=America/Chicago:20251002T173000
DTEND;TZID=America/Chicago:20251002T200000
DTSTAMP:20260424T053005
CREATED:20250730T183733Z
LAST-MODIFIED:20250730T183733Z
UID:9354-1759426200-1759435200@elbaps.org
SUMMARY:Volleyball Triangular @ Fullerton
DESCRIPTION:Fullerton 5:30pm \nPalmer 6:30pm
URL:https://elbaps.org/event/volleyball-triangular-fullerton/
CATEGORIES:Varsity Volleyball
END:VEVENT
BEGIN:VEVENT
DTSTART;TZID=America/Chicago:20251009T173000
DTEND;TZID=America/Chicago:20251009T210000
DTSTAMP:20260424T053005
CREATED:20250730T183855Z
LAST-MODIFIED:20250730T183855Z
UID:9356-1760031000-1760043600@elbaps.org
SUMMARY:Volleyball Triangular @ Anselmo-Merna
DESCRIPTION:Anselmo-Merna 5:30pm \nCentral Valley 7:30pm
URL:https://elbaps.org/event/volleyball-triangular-anselmo-merna/
CATEGORIES:Varsity Volleyball
END:VEVENT
BEGIN:VEVENT
DTSTART;VALUE=DATE:20251011
DTEND;VALUE=DATE:20251012
DTSTAMP:20260424T053005
CREATED:20250730T183951Z
LAST-MODIFIED:20250730T183951Z
UID:9358-1760140800-1760227199@elbaps.org
SUMMARY:Palmer Volleyball Tournament
DESCRIPTION:TBD
URL:https://elbaps.org/event/palmer-volleyball-tournament/
CATEGORIES:Varsity Volleyball
END:VEVENT
BEGIN:VEVENT
DTSTART;TZID=America/Chicago:20251014T170000
DTEND;TZID=America/Chicago:20251014T170000
DTSTAMP:20260424T053005
CREATED:20250730T184109Z
LAST-MODIFIED:20250730T184109Z
UID:9360-1760461200-1760461200@elbaps.org
SUMMARY:Volleyball Triangular @ Elba
DESCRIPTION:Archangels Catholic 5:00pm \nPalmer 7:00pm
URL:https://elbaps.org/event/volleyball-triangular-elba-3/
CATEGORIES:Varsity Volleyball
END:VEVENT
BEGIN:VEVENT
DTSTART;TZID=America/Chicago:20251016T170000
DTEND;TZID=America/Chicago:20251018T163000
DTSTAMP:20260424T053005
CREATED:20250730T184250Z
LAST-MODIFIED:20250730T184250Z
UID:9362-1760634000-1760805000@elbaps.org
SUMMARY:Goldenrod Conference Volleyball
DESCRIPTION:
URL:https://elbaps.org/event/goldenrod-conference-volleyball/
CATEGORIES:Varsity Volleyball
END:VEVENT
BEGIN:VEVENT
DTSTART;TZID=America/Chicago:20251020T180000
DTEND;TZID=America/Chicago:20251020T200000
DTSTAMP:20260424T053005
CREATED:20250730T184555Z
LAST-MODIFIED:20250730T184555Z
UID:9364-1760983200-1760990400@elbaps.org
SUMMARY:Volleyball Dual @ Burwell
DESCRIPTION:*Possible JV TBD
URL:https://elbaps.org/event/volleyball-dual-burwell/
CATEGORIES:Varsity Volleyball
END:VEVENT
BEGIN:VEVENT
DTSTART;TZID=America/Chicago:20251027T180000
DTEND;TZID=America/Chicago:20251028T200000
DTSTAMP:20260424T053005
CREATED:20250730T184719Z
LAST-MODIFIED:20250730T184719Z
UID:9366-1761588000-1761681600@elbaps.org
SUMMARY:Volleyball Sub-Districts
DESCRIPTION:TBD
URL:https://elbaps.org/event/volleyball-sub-districts/
CATEGORIES:Varsity Volleyball
END:VEVENT
END:VCALENDAR